BEGIN:VCALENDAR
VERSION:2.0
PRODID:-//Tukios.com/
BEGIN:VEVENT
UID:46b5b8bc-794e-4142-aa12-67cac09ed5a7@www.leavittsmortuary.com
DTSTAMP:20260422T193848Z
DTSTART:20260427T170000Z
DTEND:20260427T180000Z
SUMMARY:Graveside Service
DESCRIPTION:
URL:https://www.leavittsmortuary.com/obituaries/elaine-wilcox
LOCATION: 836 36th St  Ogden UT 84403
GEO:41.1990156;-111.9598295
END:VEVENT
END:VCALENDAR