BEGIN:VCALENDAR
VERSION:2.0
PRODID:-//Tukios.com/
BEGIN:VEVENT
UID:34e66882-832a-437d-95cf-d0f6a7842518@www.leavittsmortuary.com
DTSTAMP:20260422T194011Z
DTSTART:20260427T160000Z
DTEND:20260427T170000Z
SUMMARY:Viewing
DESCRIPTION:
URL:https://www.leavittsmortuary.com/obituaries/elaine-wilcox
LOCATION: 836 36th St  Ogden UT 84403
GEO:41.1990156;-111.9598295
END:VEVENT
END:VCALENDAR