BEGIN:VCALENDAR
VERSION:2.0
PRODID:-//Tukios.com/
BEGIN:VEVENT
UID:e7367e88-8950-4d2b-8758-6b312e1e942b@www.leavittsmortuary.com
DTSTAMP:20260424T194613Z
DTSTART:20260502T150000Z
DTEND:20260502T163000Z
SUMMARY:Viewing
DESCRIPTION:
URL:https://www.leavittsmortuary.com/obituaries/sharlene-hardy
LOCATION:The Church of Jesus Christ of Latter-day Saints 5378 W Old 
	Highway Road  Mountain Green UT 84050
GEO:41.1431215;-111.8042099
END:VEVENT
END:VCALENDAR