BEGIN:VCALENDAR
VERSION:2.0
PRODID:-//Tukios.com/
BEGIN:VEVENT
UID:b1eb8119-fdf1-4ea8-b0cc-910c7f04697c@www.leavittsmortuary.com
DTSTAMP:20260424T193827Z
DTSTART:20260502T170000Z
DTEND:20260502T181500Z
SUMMARY:Funeral Service
DESCRIPTION:
URL:https://www.leavittsmortuary.com/obituaries/sharlene-hardy
LOCATION: 5378 W Old Highway Road  Mountain Green UT 84050
GEO:41.1431215;-111.8042099
END:VEVENT
END:VCALENDAR